BEGIN:VCALENDAR
VERSION:2.0
PRODID:-//NJ Photography Workshops by Nancy Ori - ECPv6.3.1//NONSGML v1.0//EN
CALSCALE:GREGORIAN
METHOD:PUBLISH
X-WR-CALNAME:NJ Photography Workshops by Nancy Ori
X-ORIGINAL-URL:https://old.nancyoriworkshops.com
X-WR-CALDESC:Events for NJ Photography Workshops by Nancy Ori
REFRESH-INTERVAL;VALUE=DURATION:PT1H
X-Robots-Tag:noindex
X-PUBLISHED-TTL:PT1H
BEGIN:VTIMEZONE
TZID:UTC
BEGIN:STANDARD
TZOFFSETFROM:+0000
TZOFFSETTO:+0000
TZNAME:UTC
DTSTART:20190101T000000
END:STANDARD
END:VTIMEZONE
BEGIN:VEVENT
DTSTART;TZID=UTC:20200517T140000
DTEND;TZID=UTC:20200517T200000
DTSTAMP:20260421T095143
CREATED:20200110T000953Z
LAST-MODIFIED:20200110T000953Z
UID:4156-1589724000-1589745600@old.nancyoriworkshops.com
SUMMARY:Landscape Photography Workshop @ Hunterdon Art Museum
DESCRIPTION:This workshop will explore some of the key issues in the art of landscape photography.  Nancy Ori\, will share her secrets on both technique and esthetics through lecture\, discussions\, and hands-on opportunities in the local landscape. \nDesigned for any level or age of photographer\, there will also be a concentration of information for the advanced beginner. The groups are always small so there is an opportunity for Nancy to tailor information for your needs. She will begin with a lecture to discuss how to compose a picture for more impact\, how to shoot in different lighting and weather conditions\, and how to expose correctly in different types of lighting. If necessary\, there will also be a quick review of the cameras before heading outside to try your hand at all the tips. Rain date is May 31 so please hold both dates open. \nThe goal of this workshop is to gain insight into the world of landscape photography from a seasoned professional who also studied with Ansel Adams. The group will try out the many helpful tips while shooting in and around the museum. The river and area around the famous Clinton Mill will be our focus. The property offers many classic and rustic photographic opportunities. \nThe workshop is being offered through the Hunterdon Art Museum. BYO lunch and comfortable clothing to be outdoors. Interested teens are welcome. \n\nTuition: $110; $90 for members of the museum\nRegistration: Contact the Hunterdon Art Museum directly to register at https://hunterdonartmuseum.org/adult-classes-workshops/   908-735-8415\nTime: May 17\, 2020 from 10am – 4pm
URL:https://old.nancyoriworkshops.com/event/landscape-photography-workshop-hunterdon-art-museum/
LOCATION:Hunterdon Art Museum\, 7 Lower Center Street\, Clinton\, NJ\, 08809\, United States
CATEGORIES:Hunterdon Art Museum,Landscape Photography
ATTACH;FMTTYPE=image/jpeg:https://old.nancyoriworkshops.com/wp-content/uploads/2012/08/natural_light_4-e1357504356248.jpg
ORGANIZER;CN="Hunterdon Art Museum":MAILTO:ellen@hunterdonartmuseum.org ;
END:VEVENT
BEGIN:VEVENT
DTSTART;VALUE=DATE:20190530
DTEND;VALUE=DATE:20190603
DTSTAMP:20260421T095143
CREATED:20190408T111630Z
LAST-MODIFIED:20190408T111930Z
UID:4021-1559174400-1559519999@old.nancyoriworkshops.com
SUMMARY:Landscape Photography at Peters Valley
DESCRIPTION:This workshop will explore some of the key issues in the art of landscape photography. Nancy will share her secrets on both technique and aesthetics through lecture\, discussions\, critiques\, and hands-on opportunities in the landscape of the area. Designed for any level of photographer\, there will also be a concentration of information for the advanced beginner. \nNancy will begin with a lecture to offer tips on composition\, how to shoot in different lighting and weather conditions\, thoughts on travel photography\, and how to expose correctly in different types of lighting and situations. \nThe goal of this workshop is to review\, discuss and try out the many helpful tips. There will also be time for critiques of images you bring as well as images you make during the workshop. A basic understanding of your camera will be necessary. \nBeginner to Intermediate \nLocation: Peters Valley School of Craft is a not-for-profit school located in the beautiful Delaware Water Gap National Recreation Area of New Jersey in the town of Layton\, NJ. www.petersvalley.org\nFor further help\, please call 973-948-5200 M-F\, 9-5. \nTuition: $430 (lunch is included)\nStudio/Materials Fee: $5\nRegistration on line or by phone: http://petersvalleyworkshops.bigcartel.com/product/landscape-photography \nRegistration Fee: $30* (listed as “shipping” in cart) *Members use coupon code WAIVEFEE at check-out \n 
URL:https://old.nancyoriworkshops.com/event/landscape-photography-at-peters-valley/
LOCATION:NJ
CATEGORIES:Digital Photography,Landscape Photography,Peter's Valley
ATTACH;FMTTYPE=image/jpeg:https://old.nancyoriworkshops.com/wp-content/uploads/2019/04/iphone-16.jpg
END:VEVENT
BEGIN:VEVENT
DTSTART;TZID=UTC:20190519T100000
DTEND;TZID=UTC:20190519T160000
DTSTAMP:20260421T095143
CREATED:20190408T110837Z
LAST-MODIFIED:20190408T112114Z
UID:4018-1558260000-1558281600@old.nancyoriworkshops.com
SUMMARY:Landscape Photography Workshop at Hunterdon Art Museum
DESCRIPTION:This workshop will explore some of the key issues in the art of landscape photography.  Nancy Ori\, will share her secrets on both technique and esthetics through lecture\, discussions\, and hands-on opportunities in the landscape of the Hunterdon within walking distance of the museum. \nDesigned for any level of photographer\, there will also be a concentration of information for the advanced beginner. Nancy will begin with a lecture to demonstrate how to compose a picture\, how to shoot in different lighting and weather conditions\, and how to expose correctly in different types of lighting. \nThe goal of this workshop is to review and try out the many helpful tips while shooting and discussing your images during the hands-on portion of the workshop. \nThis workshop is being offered through the Hunterdon Art Museum. \n\nRegistration: Contact the Hunterdon Art Museum directly with questions and to register at https://hunterdonartmuseum.org/adult-classes-workshops/  908-735-8415\n\n\nTime: May 19\, 2019 from 10am – 4pm\, meet at the museum\nLocation: Hunterdon Art Museum 7 Lower Center Street Clinton\, 08809
URL:https://old.nancyoriworkshops.com/event/landscape-photography-workshop-at-hunterdon-art-museum/
LOCATION:NJ
CATEGORIES:Digital Photography,Hunterdon Art Museum,Landscape Photography
ATTACH;FMTTYPE=image/jpeg:https://old.nancyoriworkshops.com/wp-content/uploads/2019/04/Fav-tree-sketch-78-of-82-1.jpg
END:VEVENT
END:VCALENDAR