BEGIN:VCALENDAR
VERSION:2.0
PRODID:-//NJ Photography Workshops by Nancy Ori - ECPv6.3.1//NONSGML v1.0//EN
CALSCALE:GREGORIAN
METHOD:PUBLISH
X-ORIGINAL-URL:https://old.nancyoriworkshops.com
X-WR-CALDESC:Events for NJ Photography Workshops by Nancy Ori
REFRESH-INTERVAL;VALUE=DURATION:PT1H
X-Robots-Tag:noindex
X-PUBLISHED-TTL:PT1H
BEGIN:VTIMEZONE
TZID:UTC
BEGIN:STANDARD
TZOFFSETFROM:+0000
TZOFFSETTO:+0000
TZNAME:UTC
DTSTART:20200101T000000
END:STANDARD
END:VTIMEZONE
BEGIN:VEVENT
DTSTART;TZID=UTC:20200920T150000
DTEND;TZID=UTC:20200920T190000
DTSTAMP:20260423T142721
CREATED:20190815T173645Z
LAST-MODIFIED:20200810T193508Z
UID:4078-1600614000-1600628400@old.nancyoriworkshops.com
SUMMARY:On-Line Photo Encaustic Demo & Lecture
DESCRIPTION:Join Nancy for a fun afternoon of learning how to work with and think about layering your photographs using new and simple mixed media techniques. There will be a demonstration of several key techniques\, lots of great tips\, a lecture about the process with examples from contemporary artists\, and a look at how abstraction\, composition and wax can create amazing new pieces with your photographs. \nEncaustic uses heated beeswax and colors to create unique works of art.  An ancient medium that pre-dates oil painting\, encaustic enjoys new popularity today amongst photographic artists.  The process allows you to work in layers\, adding photographs & collage materials into the wax as you build your piece\, or you can simply cover a single photograph for a unique presentation.  Techniques like marking into the wax and filling the marks with color create varied surfaces and textures that cannot be duplicated with any other medium. \n“It’s not that often that you find a teacher who is completely open and forthcoming with their wealth of knowledge and ideas. Nancy’s photo encaustic workshop was so informative\, interesting\, and incredibly fun. I finished with a feeling of inspiration not only for my personal creative projects\, but new ideas for my photography business too. Out of 5 stars I would definitely give Nancy and this experience 5 stars.” Sonya K. \nYou will also receive a comprehensive handout to follow and create new work with incredible diversity from your current portfolio.  No previous art experience is necessary. You can share your photographs and get suggestions from Nancy on how to use them and what additional materials you may want to collect to compliment them. \nNew Jersey Media Center LLC is a provider of Professional Development Certification credit hours for New Jersey teachers and will issue a certificate at the completion of a class\, workshop\, or lecture for qualified applicants upon request. \nFEE: $65 must be paid in advance to receive the Zoom link. \nCANCELLATION:  A 50% refund will be issued for cancellations on or before 14 days before your workshop. No refunds will be issued for cancellations after that. \n\nTuition Fee: $ 65\nPayment by check\, paypal or credit card\nTo request further info: Call (908.790.8820) or email nancyori@comcast.net\n\n\n                \n                        \n                            Encaustic Workshop Registration\n                            Please fill out this form for each attendee to start your registration.\n                        \n                        Name\n                            \n                            \n                                                    \n                                                    First\n                                                \n                            \n                            \n                                                    \n                                                    Last\n                                                \n                            \n                        Address    \n                    \n                         \n                                        \n                                        Street Address\n                                    \n                                        \n                                        Address Line 2\n                                    \n                                    \n                                    City\n                                 \n                                        \n                                        State / Province / Region\n                                      \n                                    \n                                    ZIP / Postal Code\n                                \n                                        AfghanistanAlbaniaAlgeriaAmerican SamoaAndorraAngolaAnguillaAntarcticaAntigua and BarbudaArgentinaArmeniaArubaAustraliaAustriaAzerbaijanBahamasBahrainBangladeshBarbadosBelarusBelgiumBelizeBeninBermudaBhutanBoliviaBonaire\, Sint Eustatius and SabaBosnia and HerzegovinaBotswanaBouvet IslandBrazilBritish Indian Ocean TerritoryBrunei DarussalamBulgariaBurkina FasoBurundiCambodiaCameroonCanadaCape VerdeCayman IslandsCentral African RepublicChadChileChinaChristmas IslandCocos IslandsColombiaComorosCongo\, Democratic Republic of theCongo\, Republic of theCook IslandsCosta RicaCroatiaCubaCuraçaoCyprusCzech RepublicCôte d'IvoireDenmarkDjiboutiDominicaDominican RepublicEcuadorEgyptEl SalvadorEquatorial GuineaEritreaEstoniaEswatini (Swaziland)EthiopiaFalkland IslandsFaroe IslandsFijiFinlandFranceFrench GuianaFrench PolynesiaFrench Southern TerritoriesGabonGambiaGeorgiaGermanyGhanaGibraltarGreeceGreenlandGrenadaGuadeloupeGuamGuatemalaGuernseyGuineaGuinea-BissauGuyanaHaitiHeard and McDonald IslandsHoly SeeHondurasHong KongHungaryIcelandIndiaIndonesiaIranIraqIrelandIsle of ManIsraelItalyJamaicaJapanJerseyJordanKazakhstanKenyaKiribatiKuwaitKyrgyzstanLao People's Democratic RepublicLatviaLebanonLesothoLiberiaLibyaLiechtensteinLithuaniaLuxembourgMacauMacedoniaMadagascarMalawiMalaysiaMaldivesMaliMaltaMarshall IslandsMartiniqueMauritaniaMauritiusMayotteMexicoMicronesiaMoldovaMonacoMongoliaMontenegroMontserratMoroccoMozambiqueMyanmarNamibiaNauruNepalNetherlandsNew CaledoniaNew ZealandNicaraguaNigerNigeriaNiueNorfolk IslandNorth KoreaNorthern Mariana IslandsNorwayOmanPakistanPalauPalestine\, State ofPanamaPapua New GuineaParaguayPeruPhilippinesPitcairnPolandPortugalPuerto RicoQatarRomaniaRussiaRwandaRéunionSaint BarthélemySaint HelenaSaint Kitts and NevisSaint LuciaSaint MartinSaint Pierre and MiquelonSaint Vincent and the GrenadinesSamoaSan MarinoSao Tome and PrincipeSaudi ArabiaSenegalSerbiaSeychellesSierra LeoneSingaporeSint MaartenSlovakiaSloveniaSolomon IslandsSomaliaSouth AfricaSouth GeorgiaSouth KoreaSouth SudanSpainSri LankaSudanSurinameSvalbard and Jan Mayen IslandsSwedenSwitzerlandSyriaTaiwanTajikistanTanzaniaThailandTimor-LesteTogoTokelauTongaTrinidad and TobagoTunisiaTurkeyTurkmenistanTurks and Caicos IslandsTuvaluUS Minor Outlying IslandsUgandaUkraineUnited Arab EmiratesUnited KingdomUnited StatesUruguayUzbekistanVanuatuVenezuelaVietnamVirgin Islands\, BritishVirgin Islands\, U.S.Wallis and FutunaWestern SaharaYemenZambiaZimbabweÅland Islands\n                                        Country\n                                    \n                    \n                PhoneAgreement\, Waiver & Release* I agree to the terms and conditionsNew Jersey Media Center\, LLC\, Nancy Ori\, and/or her assistants shall not be in any way liable for injury\, damage\, loss\, accident\, delay or irregularity in connection with our workshop. \n\nI waive\, release and discharge any and all claims for damages for personal injury\, death\, or property damage which I may have\, or may hereafter accrue to me\, as a result of participation in this activity.  I assume any and all risk associated with this workshop and agree that this waiver\, release and assumption of risk is to be binding on my beneficiaries. I agree to indemnify and hold the above persons or entities free and harmless from any loss\, liability\, damage\, cost or expense which may result from my participation. I have read & understand the workshop description\, registration & waiver of liability and agree to be bound by them.\nEmail\n                            \n                        Workshop Name*Photo Encaustic Workshop RegistrationBeginning Digital Photography Workshop RegistrationHandcoloring your photographs
URL:https://old.nancyoriworkshops.com/event/photo-encaustic-workshop/
LOCATION:NJ Media Center\, Berkeley Heights\, NJ\, 07922\, United States
CATEGORIES:Online Workshop,Photo Encaustic
ATTACH;FMTTYPE=image/jpeg:https://old.nancyoriworkshops.com/wp-content/uploads/2018/10/photo-encaustic-1a-small.jpg
ORGANIZER;CN="Nancy Ori":MAILTO:NancyOri@comcast.net
END:VEVENT
END:VCALENDAR