BEGIN:VCALENDAR
VERSION:2.0
PRODID:-//NJ Photography Workshops by Nancy Ori - ECPv6.3.1//NONSGML v1.0//EN
CALSCALE:GREGORIAN
METHOD:PUBLISH
X-ORIGINAL-URL:https://old.nancyoriworkshops.com
X-WR-CALDESC:Events for NJ Photography Workshops by Nancy Ori
REFRESH-INTERVAL;VALUE=DURATION:PT1H
X-Robots-Tag:noindex
X-PUBLISHED-TTL:PT1H
BEGIN:VTIMEZONE
TZID:UTC
BEGIN:STANDARD
TZOFFSETFROM:+0000
TZOFFSETTO:+0000
TZNAME:UTC
DTSTART:20190101T000000
END:STANDARD
END:VTIMEZONE
BEGIN:VEVENT
DTSTART;VALUE=DATE:20231003
DTEND;VALUE=DATE:20231015
DTSTAMP:20260423T181219
CREATED:20230106T212812Z
LAST-MODIFIED:20230106T222258Z
UID:4600-1696291200-1697327999@old.nancyoriworkshops.com
SUMMARY:Scotland Orkney Islands\, Inverness and Cairngorms National Park
DESCRIPTION:Tour Highlights ~ A Photographic and Cultural Adventure\n• Photograph and explore the diverse landscape of the Orkney Islands\, along with the broch’s (prehistoric forts)\,\nspectacular cliffs\, beautiful sandy beaches\, and friendly people.\n• Photography sessions at the Ring of Brodgar and the Standing Stones of Stenness.\n• Inverness\, the Capital of the Scottish Highlands with castles\, mountains\, and the River Ness.\n• Cairngorms National Park offers serene landscapes in the mountains\, valleys and streams of Northern Scotland.\n• All accommodations are central to photographic locations.\n• Flexible itinerary to take advantage of special events and opportunities along your route.\n• Maximum of twelve participants.\n• Professional photography leader Nancy Ori and local Scottish guide. \nFor more information or to register contact\ninfo@phototc.co\n607-756-8676 www.phototc.com
URL:https://old.nancyoriworkshops.com/event/scotland-orkney-islands-inverness-and-cairngorms-national-park/
CATEGORIES:Destination Workshops,Photo Tour,Scotland
ATTACH;FMTTYPE=image/jpeg:https://old.nancyoriworkshops.com/wp-content/uploads/2023/01/ring-of-brodgar-sunset-orkney-134528468.jpg
END:VEVENT
BEGIN:VEVENT
DTSTART;VALUE=DATE:20190906
DTEND;VALUE=DATE:20190919
DTSTAMP:20260423T181219
CREATED:20181021T234104Z
LAST-MODIFIED:20190617T143409Z
UID:3823-1567742400-1568779199@old.nancyoriworkshops.com
SUMMARY:Scotland Photo Tour: The Highlands\, Isle of Skye and Outer Hebrides (SOLD OUT)
DESCRIPTION:Live It\, Love It\, Shoot It\nThe Strabo Photo Tour Collection is proud to announce a special tour to Scotland\, led by accomplished photographer and instructor Nancy Ori. \nTravel to Scotland and photograph the wild landscape of the Highlands\, and the Western Isles. Nancy invites you to join her on this amazing journey. The number of participants is limited to ten\, so sign up early before the trip is full. This itinerary features the Glencoe in the Highlands\, Isle of Skye\, Lewis & Harris in the Outer Hebrides. Each day will be at a relaxed pace\, allowing enough time to photograph the diverse landscape as well as taking in the local history\, people\, and culture. \nAt the meeting point of three sea lochs on the west coast of the Scottish mainland is the very photogenic Eilean Donan Castle where we will stop to photograph. On Skye you will photograph the spectacular Quiraing range\, basalt uprising that is the dominant feature of the Trotternish Peninsula. \nWe will be based at Breascleate on the west coast of Lewis\, midway between Callanish and Carloway. Callanish has become an icon of the archaeology of Scotland\, inspiring many artists\, poets\, and photographers. The pale and sometimes ghostly stones have an extraordinary affinity with their landscape. Both to the north and south we will encounter many beautiful and exciting photo opportunities. Harris and Lewis are not separate islands\, despite usually being talked of as if they are. Harris is the southern third of the largest and most northerly of the Western Isles\, most of which forms Lewis. Some say the distinction between the two dates back to a split in the MacLeod clan which dominated the Western Isles for centuries. Others simply point to the range of high mountains that impeded land access between Lewis and Harris\, turning them into virtually separate islands. There are numerous sandy beaches and little coves\, extensive moorland interspersed with lochs\, and many historical sites throughout this sparsely populated area. \nTour Highlights\n• The lochs\, moors\, and mountains of the Highlands.\n• Photograph and explore the diverse landscape of the Isle of Skye.\n• Photograph the historic standing stones in the Outer Hebrides of Lewis and Harris.\n• Maximum of ten participants.\n• Professional photography leader \nAdditional Details: \nSingle room supplement: $695\, single rooms are subject to availability. We try to accommodate single travelers who request single accommodations\, as well as single travelers who are looking for a roommate. If a single room is requested and we are unable to find a suitable roommate\, or you are in a single for another reason\, you will need to pay the single supplement. Nancy Ori. \n*Note: The land cost is based on current exchange rate between the Euro and US dollar. Should these rates change significantly\, there may be an adjustment in the trip price. \nFor more information and to register:\nStrabo Photo Tour Collection:\n607-756-8676\nwww.phototc.com
URL:https://old.nancyoriworkshops.com/event/scotland-photo-tour-the-highlands-isle-of-skye-and-outer-hebrides/
LOCATION:Scotland
CATEGORIES:Destination Workshops,Scotland
ATTACH;FMTTYPE=image/jpeg:https://old.nancyoriworkshops.com/wp-content/uploads/2018/10/scot2106_preview.jpeg
END:VEVENT
END:VCALENDAR